0.500000000000666
0.000000000000000
0.000000000000000
-0.500000000000666
1570000.250000210900000
2021999.749998788100000
